BEGIN:VCALENDAR
VERSION:2.0
PRODID:-//Political Settlements Research Programme X - ECPv5.1.1//NONSGML v1.0//EN
CALSCALE:GREGORIAN
METHOD:PUBLISH
X-WR-CALNAME:Political Settlements Research Programme X
X-ORIGINAL-URL:https://psrpdev.law.ed.ac.uk/psrpx
X-WR-CALDESC:Events for Political Settlements Research Programme X
BEGIN:VTIMEZONE
TZID:UTC
BEGIN:STANDARD
TZOFFSETFROM:+0000
TZOFFSETTO:+0000
TZNAME:UTC
DTSTART:20160101T000000
END:STANDARD
END:VTIMEZONE
BEGIN:VEVENT
DTSTART;TZID=UTC:20160316T081500
DTEND;TZID=UTC:20160318T223000
DTSTAMP:20260420T012633
CREATED:20160311T152725Z
LAST-MODIFIED:20160311T152726Z
UID:2349-1458116100-1458340200@psrpdev.law.ed.ac.uk
SUMMARY:Women\, Peace and Security at International Studies Association 2016
DESCRIPTION:PSRP researchers Zoe Marks and Claire Duncanson will both present their research on gendered issues of inclusion in political settlements\, and women’s military experiences in conflict at the 2016 International Studies Association conference in Atlanta. \nZoe will present the paper ‘Women at the Table\, Women at the Door: Gender\, Power & Inclusion in Political Settlements’ as part of the panel ‘Peace\, Security and Women’s Empowerment’ on Wednesday 16th of March at 8.15am. \nClaire will present her research on ‘Forces for Good? The Experience of British Female Personnel in Afghanistan’ as part of the panel ‘Going beyond the instrumental debate: Exploring the space for gender roles in peacekeeping operations home and abroad’ Wednesday 16th of March at 4:00pm. Claire will also serve as a discussant for the panel ‘Feminist Peace Stuiess: Peace beyond security\, debates beyond disciplines’ on Wednesday at 10:30am\, and participate in the roundtable ‘Gender and War: Critical Reflections on Feminist Theory\, Research\, and Pedagogy’ on Friday 18th March at 8:15am. \nFull programme [PDF] \n  \nFor more information about both Zoe and  Claire’s current research\, visit their profile pages. \nZoe Marks – Centre of African Studies \nClaire Duncanson – Politics and International Relations \n
URL:https://psrpdev.law.ed.ac.uk/psrpx/event/women-peace-and-security-at-international-studies-association-2016/
LOCATION:Hilton Atlanta\, 255 Courtland St NE\,  Atlanta\, GA\, 30303\, United States
CATEGORIES:Academic Event,Conference
ATTACH;FMTTYPE=image/jpeg:https://psrpdev.law.ed.ac.uk/psrpx/wp-content/uploads/2016/03/ISA_google_plus_logo.jpg
END:VEVENT
END:VCALENDAR