BEGIN:VCALENDAR
VERSION:2.0
PRODID:-//Political Settlements Research Programme X - ECPv5.1.1//NONSGML v1.0//EN
CALSCALE:GREGORIAN
METHOD:PUBLISH
X-WR-CALNAME:Political Settlements Research Programme X
X-ORIGINAL-URL:https://psrpdev.law.ed.ac.uk/psrpx
X-WR-CALDESC:Events for Political Settlements Research Programme X
BEGIN:VTIMEZONE
TZID:UTC
BEGIN:STANDARD
TZOFFSETFROM:+0000
TZOFFSETTO:+0000
TZNAME:UTC
DTSTART:20150101T000000
END:STANDARD
END:VTIMEZONE
BEGIN:VEVENT
DTSTART;TZID=UTC:20151202T160000
DTEND;TZID=UTC:20151202T180000
DTSTAMP:20260419T234420
CREATED:20151127T145240Z
LAST-MODIFIED:20151127T145240Z
UID:1955-1449072000-1449079200@psrpdev.law.ed.ac.uk
SUMMARY:Turbulence and Order in Economic Development: Political Settlement in Tanzania and Vietnam
DESCRIPTION:Hazel Gray will present her research on ‘Turbulence and Order in Economic Development: Political Settlement in Tanzania and Vietnam’ as part of the Centre of African Studies 2015/2016 Seminar Series\, on December 2nd at 4pm. \nAll are welcome to attend the seminar and discussion. \n
URL:https://psrpdev.law.ed.ac.uk/psrpx/event/turbulence-and-order-in-economic-development-political-settlement-in-tanzania-and-vietnam/
LOCATION:Seminar Rooms 1&2\, Chrystal Macmillan Building\, 15a George Square\, Edinburgh\, EH8 9LD\, United Kingdom
CATEGORIES:Academic Event
END:VEVENT
END:VCALENDAR