BEGIN:VCALENDAR
VERSION:2.0
PRODID:-//Political Settlements Research Programme X - ECPv5.1.1//NONSGML v1.0//EN
CALSCALE:GREGORIAN
METHOD:PUBLISH
X-WR-CALNAME:Political Settlements Research Programme X
X-ORIGINAL-URL:https://psrpdev.law.ed.ac.uk/psrpx
X-WR-CALDESC:Events for Political Settlements Research Programme X
BEGIN:VTIMEZONE
TZID:UTC
BEGIN:STANDARD
TZOFFSETFROM:+0000
TZOFFSETTO:+0000
TZNAME:UTC
DTSTART:20150101T000000
END:STANDARD
END:VTIMEZONE
BEGIN:VEVENT
DTSTART;TZID=UTC:20151123T173000
DTEND;TZID=UTC:20151123T173000
DTSTAMP:20260420T012633
CREATED:20150820T091529Z
LAST-MODIFIED:20150919T143427Z
UID:1261-1448299800-1448299800@psrpdev.law.ed.ac.uk
SUMMARY:‘The Role of Human Rights in Peace Settlements – A Twenty-Five Year History’
DESCRIPTION:On 23 November 2015\, Professor Christine Bell\, the PSRP Programme Director\, will deliver the Stephen Livingstone Memorial Lecture at Queen’s University of Belfast. \nThrough her lecture entitled “The Role of Human Rights in Peace Settlements – A Twenty-Five Year History: Northern Ireland’s Past and Current Struggles in Global Perspective”\, Christine Bell will attempt to apply some of the learning from the programme to the UK’s current political context. \n
URL:https://psrpdev.law.ed.ac.uk/psrpx/event/the-role-of-human-rights-in-peace-settlements/
END:VEVENT
END:VCALENDAR