BEGIN:VCALENDAR
VERSION:2.0
PRODID:-//Political Settlements Research Programme X - ECPv5.1.1//NONSGML v1.0//EN
CALSCALE:GREGORIAN
METHOD:PUBLISH
X-WR-CALNAME:Political Settlements Research Programme X
X-ORIGINAL-URL:https://psrpdev.law.ed.ac.uk/psrpx
X-WR-CALDESC:Events for Political Settlements Research Programme X
BEGIN:VTIMEZONE
TZID:UTC
BEGIN:STANDARD
TZOFFSETFROM:+0000
TZOFFSETTO:+0000
TZNAME:UTC
DTSTART:20190101T000000
END:STANDARD
END:VTIMEZONE
BEGIN:VEVENT
DTSTART;VALUE=DATE:20191108
DTEND;VALUE=DATE:20191110
DTSTAMP:20260420T014111
CREATED:20190918T125858Z
LAST-MODIFIED:20191105T121004Z
UID:8873-1573171200-1573343999@psrpdev.law.ed.ac.uk
SUMMARY:Conference: The media in deeply divided societies - its role and responsibilities
DESCRIPTION:Populism\, extremism and polarisation are on the rise internationally\, with major implications for societies already challenged by division and conflict. What role does the media play in these developments and what responsibility if any should it have in creating more peaceful and stable communities?  Participants will hear directly from the experience of people working in a range of conflicted societies. \nFormer Director General of Al Jazeera\, Wadah Khanfar\, and more than 25 speakers including journalists from Myanmar\, the Balkans\, Rwanda\, Colombia\, Kashmir\, South Africa\, Nepal\, Turkey and Northern Ireland will consider: \n\nThe extent to which the role of media has featured in peace agreements around the world.\nWhat role is the media playing in deeply divided societies?\nWhat role is social media playing in deeply divided societies in particular? How should societies respond to the social media age?\nWhat role should the media play in deeply divided societies? What does good practice look like and how do we encourage it?\n\nThe event will provide journalists\, peace building practitioners\, policy makers\, activists\, and funders\, with an opportunity to examine the challenges involved and to consider solutions. \nIt is being organised by the Belfast-based Social Change Initiative (SCI) in partnership with the University of Edinburgh’s Political Settlements Research Programme and the international peace building organisation\,  and PSRP partner\, Conciliation Resources. \nClick here to buy your tickets via Eventbrite. \n
URL:https://psrpdev.law.ed.ac.uk/psrpx/event/the-media-in-deeply-divided-societies-its-role-and-responsibilities/
LOCATION:Riddel Hall\, Belfast\, 185 Stranmillis Rd\, Belfast\, Northern Ireland\, BT9 5EE\, United Kingdom
CATEGORIES:Conference
ATTACH;FMTTYPE=image/png:https://psrpdev.law.ed.ac.uk/psrpx/wp-content/uploads/2019/09/SCI-media-event.png
END:VEVENT
END:VCALENDAR