BEGIN:VCALENDAR
VERSION:2.0
PRODID:-//Political Settlements Research Programme X - ECPv5.1.1//NONSGML v1.0//EN
CALSCALE:GREGORIAN
METHOD:PUBLISH
X-WR-CALNAME:Political Settlements Research Programme X
X-ORIGINAL-URL:https://psrpdev.law.ed.ac.uk/psrpx
X-WR-CALDESC:Events for Political Settlements Research Programme X
BEGIN:VTIMEZONE
TZID:UTC
BEGIN:STANDARD
TZOFFSETFROM:+0000
TZOFFSETTO:+0000
TZNAME:UTC
DTSTART:20170101T000000
END:STANDARD
END:VTIMEZONE
BEGIN:VEVENT
DTSTART;TZID=UTC:20170606T090000
DTEND;TZID=UTC:20170606T170000
DTSTAMP:20260420T012634
CREATED:20170512T101157Z
LAST-MODIFIED:20170512T101157Z
UID:4373-1496739600-1496768400@psrpdev.law.ed.ac.uk
SUMMARY:The ‘Common Good’ in Times of Transition
DESCRIPTION:Join PSRP researchers on June 6 in London at the British Academy conference ‘The ‘Common Good’ in Times of Transition’ to discuss the role of human rights and equality in political transitions from violent conflict. The conference will host practitioners\, policy makers and researchers from the UK and overseas. It aims to contribute to fostering inclusive political settlements and conflict resolution in fragile and conflict-affected states. \nDownload the conference programme for more information. \nAttendance of the conference is free but spaces are limited and registrations is required. To register please RSVP to Annette Oppong a.oppong@britac.ac.uk before Monday 22 May 2017. In your reply\, please indicate which parallel session you would like to attend. If no preference is expressed\, a session will be allocated to you. \n
URL:https://psrpdev.law.ed.ac.uk/psrpx/event/the-common-good-in-times-of-transition/
CATEGORIES:Conference,Event Type
ATTACH;FMTTYPE=image/jpeg:https://psrpdev.law.ed.ac.uk/psrpx/wp-content/uploads/2017/05/British-Academy.jpg
END:VEVENT
END:VCALENDAR