BEGIN:VCALENDAR
VERSION:2.0
PRODID:-//Political Settlements Research Programme X - ECPv5.1.1//NONSGML v1.0//EN
CALSCALE:GREGORIAN
METHOD:PUBLISH
X-WR-CALNAME:Political Settlements Research Programme X
X-ORIGINAL-URL:https://psrpdev.law.ed.ac.uk/psrpx
X-WR-CALDESC:Events for Political Settlements Research Programme X
BEGIN:VTIMEZONE
TZID:UTC
BEGIN:STANDARD
TZOFFSETFROM:+0000
TZOFFSETTO:+0000
TZNAME:UTC
DTSTART:20180101T000000
END:STANDARD
END:VTIMEZONE
BEGIN:VEVENT
DTSTART;TZID=UTC:20180423T183000
DTEND;TZID=UTC:20180423T200000
DTSTAMP:20260419T220001
CREATED:20180306T093309Z
LAST-MODIFIED:20180306T093430Z
UID:5789-1524508200-1524513600@psrpdev.law.ed.ac.uk
SUMMARY:PSRP Researcher: Aisling Swaine launches her new book at LSE
DESCRIPTION:  \nHosted by the Centre for Women\, Peace and Security at LSE\, PSRP Researcher\, Aisling Swaine\, will introduce her new book\, Conflict Related Violence Against Women: Transforming Transition\, alongside PSRP Director\, Christine Bell. \nThis event is free to attend and open to all\, no registration necessary. \nClick here for full details\, including directions\, on the LSE website. \n
URL:https://psrpdev.law.ed.ac.uk/psrpx/event/swaine-book-launch/
LOCATION:Sheikh Zayed Theatre\, New Academic Building\, Lincoln’s Inn Fields\, LSE\, London\, London\, United Kingdom
CATEGORIES:GJA,Public Event
ATTACH;FMTTYPE=image/png:https://psrpdev.law.ed.ac.uk/psrpx/wp-content/uploads/2018/03/Screen-Shot-2018-03-06-at-09.33.51.png
END:VEVENT
END:VCALENDAR