BEGIN:VCALENDAR
VERSION:2.0
PRODID:-//Political Settlements Research Programme X - ECPv5.1.1//NONSGML v1.0//EN
CALSCALE:GREGORIAN
METHOD:PUBLISH
X-WR-CALNAME:Political Settlements Research Programme X
X-ORIGINAL-URL:https://psrpdev.law.ed.ac.uk/psrpx
X-WR-CALDESC:Events for Political Settlements Research Programme X
BEGIN:VTIMEZONE
TZID:UTC
BEGIN:STANDARD
TZOFFSETFROM:+0000
TZOFFSETTO:+0000
TZNAME:UTC
DTSTART:20150101T000000
END:STANDARD
END:VTIMEZONE
BEGIN:VEVENT
DTSTART;TZID=UTC:20150924T090000
DTEND;TZID=UTC:20150924T224500
DTSTAMP:20260420T030108
CREATED:20150812T161347Z
LAST-MODIFIED:20150812T161641Z
UID:1158-1443085200-1443134700@psrpdev.law.ed.ac.uk
SUMMARY:Resistance and the "Legitimate Political Settlement"
DESCRIPTION:The PSRP is convening a panel on Political Settlements at the 9th Pan–European Conference on International Relations in Giardini Naxos\, Sicily\, Italy. \nThe panelists are Barbara Gruber (University of Vienna)\, Jörn Grävingholt and Nicolai Schulz (German Development Institute)\, Jan Pospisil (University of Edinburgh). They will discuss\, on a theoretical as well as on an empirical level\, the interrelations of resistance\, legitimacy and the political settlement\, how transformations of such settlements take place and how this interrelates with issues of statebuilding. \nAlina Rocha Menocal (DLP\, University of Birmingham) will be the chair and the discussant. \n  \n  \n
URL:https://psrpdev.law.ed.ac.uk/psrpx/event/resistance-and-legitimate-polset/
LOCATION:Giardini Naxos\, Sicily\, Italy\, Italy
CATEGORIES:Conference
END:VEVENT
END:VCALENDAR