BEGIN:VCALENDAR
VERSION:2.0
PRODID:-//Political Settlements Research Programme X - ECPv5.1.1//NONSGML v1.0//EN
CALSCALE:GREGORIAN
METHOD:PUBLISH
X-WR-CALNAME:Political Settlements Research Programme X
X-ORIGINAL-URL:https://psrpdev.law.ed.ac.uk/psrpx
X-WR-CALDESC:Events for Political Settlements Research Programme X
BEGIN:VTIMEZONE
TZID:UTC
BEGIN:STANDARD
TZOFFSETFROM:+0000
TZOFFSETTO:+0000
TZNAME:UTC
DTSTART:20190101T000000
END:STANDARD
END:VTIMEZONE
BEGIN:VEVENT
DTSTART;VALUE=DATE:20191126
DTEND;VALUE=DATE:20191130
DTSTAMP:20260420T064409
CREATED:20191113T143324Z
LAST-MODIFIED:20191113T143434Z
UID:9272-1574726400-1575071999@psrpdev.law.ed.ac.uk
SUMMARY:Research Visit: Dr Brooke Coe
DESCRIPTION:*This event is by invitation only* \nPSRP will host a research visit by Dr Brooke Coe from 26-29 November 2019. \nDr Brooke Coe earned her BA and PhD from the University of Minnesota.  She conducts research and teaches at the intersection of comparative politics and international relations\, and her interests include comparative regional law and organisations in the Global South\, state sovereignty and international interventions\, and transitional justice.  Her work has been published in Global Governance and Global Responsibility to Protect\, and her book was recently published by Cambridge University Press. \nDr Coe is currently working with the PSRP’s Dr Kathryn Nash on a long term collaborative project investigating how regional and subregional organisations engage in peace processes and peace agreements. This research will add to our understanding of regional and international security governance at a point when the world is becoming increasingly multipolar and when there are moves in several regions to develop policies and practices of subsidiarity. \nThe schedule of events for the visit is as follows: \nTuesday 26 November: PRSP Research Group and Lunch \nThursday 28 November: Early Career Coffee \nFriday 29 November: Workshop on Regional and International Actors in Peace and Security \n
URL:https://psrpdev.law.ed.ac.uk/psrpx/event/research-visit-dr-brooke-coe/
CATEGORIES:Academic Event,Closed Event
ATTACH;FMTTYPE=image/jpeg:https://psrpdev.law.ed.ac.uk/psrpx/wp-content/uploads/2019/09/peacetech4.jpg
END:VEVENT
END:VCALENDAR