BEGIN:VCALENDAR
VERSION:2.0
PRODID:-//Political Settlements Research Programme X - ECPv5.1.1//NONSGML v1.0//EN
CALSCALE:GREGORIAN
METHOD:PUBLISH
X-WR-CALNAME:Political Settlements Research Programme X
X-ORIGINAL-URL:https://psrpdev.law.ed.ac.uk/psrpx
X-WR-CALDESC:Events for Political Settlements Research Programme X
BEGIN:VTIMEZONE
TZID:UTC
BEGIN:STANDARD
TZOFFSETFROM:+0000
TZOFFSETTO:+0000
TZNAME:UTC
DTSTART:20160101T000000
END:STANDARD
END:VTIMEZONE
BEGIN:VEVENT
DTSTART;TZID=UTC:20160510T140000
DTEND;TZID=UTC:20160510T160000
DTSTAMP:20260419T220135
CREATED:20160506T091745Z
LAST-MODIFIED:20160510T101731Z
UID:2503-1462888800-1462896000@psrpdev.law.ed.ac.uk
SUMMARY:PSRP Event: Stabilization\, Extraversion and Political Settlements in Somalia
DESCRIPTION:On Tuesday 10 May 2016\, the Rift Valley Forum together with the Political Settlements Research Programme (PRSP)\, will host the launch of a report by Tobias Hagmann: Stabilization\, Extraversion and Political Settlements in Somalia. \nThis report highlights the role of external aid in dysfunctional state building efforts in Somalia. Rather than assuming that foreign actors are outside the local\, national and political settlements\, such actors should rather be seen as an integral part of these processes. Consequently\, the power and interests of both Somali and international actors must be taken into consideration in order to understand the shortcomings of stabilization policies. \nThe author of the report will present its findings followed by a discussion on the current efforts of state building in Somalia\, lessons learnt from past efforts and what needs to be done locally and internationally to ensure a successful process of state building in Somalia. \nLight refreshments will be served. This is event is free and open to attend\, but registration is required. \n  \nModerator: \n\nIbrahim Farah\, The Somalia Academy\n\nSpeakers: \n\nTobias Hagmann\, Author\nHodan Hassan\, USAID\nAbdi Ali\, Saferworld\nDavid Womble\, Independent – Somalia\n\n  \nRead the full report ‘Stabilization\, Extraversion\, and Political Settlements in Somalia’ [PDF] \nRegister via Rift Valley Forum \n  \nSource: Rift Valley Forum \nPhoto credit: @RVInews \n
URL:https://psrpdev.law.ed.ac.uk/psrpx/event/psrp-event-stabilization-extraversion-and-political-settlements-in-somalia/
LOCATION:Rift Valley Institute Office\, Seminar Room\, Laikipia Road\, Kileleshwa\, Nairobi\, Kenya
CATEGORIES:Knowledge Exchange,Public Event,RVI
ATTACH;FMTTYPE=image/jpeg:https://psrpdev.law.ed.ac.uk/psrpx/wp-content/uploads/2016/05/ChsocoYWMAATPTh.jpg
END:VEVENT
END:VCALENDAR