BEGIN:VCALENDAR
VERSION:2.0
PRODID:-//Political Settlements Research Programme X - ECPv5.1.1//NONSGML v1.0//EN
CALSCALE:GREGORIAN
METHOD:PUBLISH
X-WR-CALNAME:Political Settlements Research Programme X
X-ORIGINAL-URL:https://psrpdev.law.ed.ac.uk/psrpx
X-WR-CALDESC:Events for Political Settlements Research Programme X
BEGIN:VTIMEZONE
TZID:UTC
BEGIN:STANDARD
TZOFFSETFROM:+0000
TZOFFSETTO:+0000
TZNAME:UTC
DTSTART:20150101T000000
END:STANDARD
END:VTIMEZONE
BEGIN:VEVENT
DTSTART;TZID=UTC:20151022T113000
DTEND;TZID=UTC:20151022T130000
DTSTAMP:20260419T220139
CREATED:20150916T092054Z
LAST-MODIFIED:20151007T094619Z
UID:1595-1445513400-1445518800@psrpdev.law.ed.ac.uk
SUMMARY:PSRP at the Centre for Security Research Conference
DESCRIPTION:PSRP member Dr Jan Pospisil will be presenting a paper at the Centre for Security Research launch conference: ‘The Future of Security Research: Multidisciplinary Perspectives’ in Edinburgh on the 22nd of October. The paper is entitled ‘The Resilient State: A critical reflection on statebuilding research and policy’ and is co-authored with Florian P. Kuehn\, University of Magdeburg. Jan is part of a panel called ‘Critical security studies’\, which includes presentations by Xavier Guillaume\, Jef Huysmans\, Jana Hoenke\, and Kyle Grayson. \nFor more information about Jan’s research for the PSRP\, please contact him here. \n
URL:https://psrpdev.law.ed.ac.uk/psrpx/event/psrp-at-the-centre-for-security-research-conference/
LOCATION:Informatics Forum\, 10 Crichton Street\, Edinburgh\, EH8 9AB\, United Kingdom
CATEGORIES:Conference,GJA,Knowledge Exchange
END:VEVENT
END:VCALENDAR