BEGIN:VCALENDAR
VERSION:2.0
PRODID:-//Political Settlements Research Programme X - ECPv5.1.1//NONSGML v1.0//EN
CALSCALE:GREGORIAN
METHOD:PUBLISH
X-WR-CALNAME:Political Settlements Research Programme X
X-ORIGINAL-URL:https://psrpdev.law.ed.ac.uk/psrpx
X-WR-CALDESC:Events for Political Settlements Research Programme X
BEGIN:VTIMEZONE
TZID:America/New_York
BEGIN:DAYLIGHT
TZOFFSETFROM:-0500
TZOFFSETTO:-0400
TZNAME:EDT
DTSTART:20150308T070000
END:DAYLIGHT
BEGIN:STANDARD
TZOFFSETFROM:-0400
TZOFFSETTO:-0500
TZNAME:EST
DTSTART:20151101T060000
END:STANDARD
END:VTIMEZONE
BEGIN:VEVENT
DTSTART;TZID=America/New_York:20150930T100000
DTEND;TZID=America/New_York:20150930T170000
DTSTAMP:20260420T012513
CREATED:20150929T093545Z
LAST-MODIFIED:20150929T093545Z
UID:1633-1443607200-1443632400@psrpdev.law.ed.ac.uk
SUMMARY:Symposium on Women's Political Participation in Peace Processes
DESCRIPTION:A high-level symposium hosted by the Georgetown Institute for Women\, Peace and Security \nWith remarks by: \n\nH.E. President Atifete Jahjaga\, President\, Republic of Kosovo\nH.E. Secretary Madeleine Albright\, Former US Secretary of State\n\nAnd the launch of the Institute’s new report on Women’s Political Participation in Peace Processes in Northern Ireland\, Kenya\, Guatemala and the Philippines  \nWith an expert panel discussion featuring: \n\nMonica McWilliams\, Professor\, Transitional Justice Institute\, Ulster University. Researcher on the Political Settlements Research Programme.\nNjeri Kabeberi\, Executive Director\, Center for Multi-Party Democracy Kenya\nClaudia Paz y Paz\, Former Attorney General of Guatemala\nMiriam Coronel Ferrer\, Chair\, Government of the Philippines Peace Panel\n\n
URL:https://psrpdev.law.ed.ac.uk/psrpx/event/peaceprocesses-30092015/
LOCATION:Gaston Hall\, Georgetown University\, Washington DC\, United States
CATEGORIES:Academic Event,Policy Event,Research Capacity Building,TJI
ATTACH;FMTTYPE=image/png:https://psrpdev.law.ed.ac.uk/psrpx/wp-content/uploads/2015/09/PSRP-logo.png
ORGANIZER;CN="Georgetown%20Institute%20for%20Women%2C%20Peace%20and%20Security":MAILTO:giwps@georgetown.edu
END:VEVENT
END:VCALENDAR