BEGIN:VCALENDAR
VERSION:2.0
PRODID:-//Political Settlements Research Programme X - ECPv5.1.1//NONSGML v1.0//EN
CALSCALE:GREGORIAN
METHOD:PUBLISH
X-WR-CALNAME:Political Settlements Research Programme X
X-ORIGINAL-URL:https://psrpdev.law.ed.ac.uk/psrpx
X-WR-CALDESC:Events for Political Settlements Research Programme X
BEGIN:VTIMEZONE
TZID:UTC
BEGIN:STANDARD
TZOFFSETFROM:+0000
TZOFFSETTO:+0000
TZNAME:UTC
DTSTART:20160101T000000
END:STANDARD
END:VTIMEZONE
BEGIN:VEVENT
DTSTART;TZID=UTC:20160615T110000
DTEND;TZID=UTC:20160615T123000
DTSTAMP:20260419T220138
CREATED:20160608T154113Z
LAST-MODIFIED:20160614T083417Z
UID:2680-1465988400-1465993800@psrpdev.law.ed.ac.uk
SUMMARY:PSRP Round-table: Peace and Justice: Measuring Success?
DESCRIPTION:The Political Settlements Research Programme has organised a round-table as part of the British International Studies Association (BISA) 41st International Conference 2016\, on 15th June in Edinburgh. The round-table ‘Peace and Justice: Measuring Success?’  will feature contributions from: \n\nChristine Bell\, University of Edinburgh\nTobias Kelly\, University of Edinburgh\nJonathan Joseph\, University of Sheffield\nNadine Ansorg\, University of Kent\n\nThe panel is convened and chaired by Jan Pospisil\, University of Edinburgh. \n  \nPeace and Justice: Measuring Success? \nThe recent endorsement of the Sustainable Development Goals has brought the uneasy relationship between elements of global justice and their objective measurement to the forefront once again. This problematique is also relevant in other processes of institutionalisation cross-cutting international\, national and local levels\, like peace agreements or constitutions. While international organisations or donor agencies are attracted by the provision of what they perceive as ‘hard evidence’\, academic research in general takes a more careful approach. However\, while the idea of measuring complex social processes is a contested one\, it is an accepted part of methodology also for many critical scholars dealing with questions of peace\, security and justice on the international level.\nAgainst this background\, the roundtable will gather scholars currently working on the issue of measurement in the wider context of global justice. It will critically assess this approach\, its opportunities\, weaknesses and principal problems\, particularly in the given contradiction between the demands of funding agencies and wider public interest for easily accessible\, hard data on the one hand\, and the current ‘local’ or ‘complexity’ turn in International Relations and peacebuilding on the other. \n  \nAttendance is by registration and BISA membership only. \n
URL:https://psrpdev.law.ed.ac.uk/psrpx/event/peace-and-justice-measuring-success/
CATEGORIES:Academic Event,Conference,GJA,Knowledge Exchange
ATTACH;FMTTYPE=image/png:https://psrpdev.law.ed.ac.uk/psrpx/wp-content/uploads/2016/06/bisa.png
END:VEVENT
END:VCALENDAR