BEGIN:VCALENDAR
VERSION:2.0
PRODID:-//Political Settlements Research Programme X - ECPv5.1.1//NONSGML v1.0//EN
CALSCALE:GREGORIAN
METHOD:PUBLISH
X-WR-CALNAME:Political Settlements Research Programme X
X-ORIGINAL-URL:https://psrpdev.law.ed.ac.uk/psrpx
X-WR-CALDESC:Events for Political Settlements Research Programme X
BEGIN:VTIMEZONE
TZID:America/New_York
BEGIN:DAYLIGHT
TZOFFSETFROM:-0500
TZOFFSETTO:-0400
TZNAME:EDT
DTSTART:20150308T070000
END:DAYLIGHT
BEGIN:STANDARD
TZOFFSETFROM:-0400
TZOFFSETTO:-0500
TZNAME:EST
DTSTART:20151101T060000
END:STANDARD
END:VTIMEZONE
BEGIN:VEVENT
DTSTART;TZID=America/New_York:20151014T090000
DTEND;TZID=America/New_York:20151014T170000
DTSTAMP:20260420T030105
CREATED:20150929T094613Z
LAST-MODIFIED:20151012T151248Z
UID:1635-1444813200-1444842000@psrpdev.law.ed.ac.uk
SUMMARY:Gender and Inclusive Mediation Processes - Panel Discussion
DESCRIPTION:Professor Monica McWilliams from TJI\, researcher on the Political Settlements Research Programme\, will speak as part of a panel at the launch of report on Gender and Inclusive Mediation Processes involving UNDPA\, CMI and PRIO. This will take place in New York City and is for information only. \n  \n
URL:https://psrpdev.law.ed.ac.uk/psrpx/event/mmw-12102015/
LOCATION:Unnamed Venue\, New York\, United States
CATEGORIES:Academic Event,Policy Event,TJI
ATTACH;FMTTYPE=image/png:https://psrpdev.law.ed.ac.uk/psrpx/wp-content/uploads/2015/07/New-Ulster-TJI-logo-2015.png
END:VEVENT
END:VCALENDAR