BEGIN:VCALENDAR
VERSION:2.0
PRODID:-//Political Settlements Research Programme X - ECPv5.1.1//NONSGML v1.0//EN
CALSCALE:GREGORIAN
METHOD:PUBLISH
X-WR-CALNAME:Political Settlements Research Programme X
X-ORIGINAL-URL:https://psrpdev.law.ed.ac.uk/psrpx
X-WR-CALDESC:Events for Political Settlements Research Programme X
BEGIN:VTIMEZONE
TZID:UTC
BEGIN:STANDARD
TZOFFSETFROM:+0000
TZOFFSETTO:+0000
TZNAME:UTC
DTSTART:20160101T000000
END:STANDARD
END:VTIMEZONE
BEGIN:VEVENT
DTSTART;TZID=UTC:20160114T090000
DTEND;TZID=UTC:20160114T170000
DTSTAMP:20260419T234127
CREATED:20150924T123945Z
LAST-MODIFIED:20151207T140918Z
UID:1615-1452762000-1452790800@psrpdev.law.ed.ac.uk
SUMMARY:PSRP Partners Collaborate on Masculinities\, Violence and (Post-)Conflict
DESCRIPTION:Transitional Justice Institute (TJI)\, with the International Conflict Research Institute (INCORE) are hosting a postgraduate conference on ‘Masculinities\, Violence and (Post-)Conflict’ at Ulster University\, on Thursday 14th January 2016 in Belfast\, Northern Ireland. The conference is supported by PSRP. \nThis will be followed on Friday 15th January with a workshop on ‘Masculinities and Violence’\, organised by Conciliation Resources\, in collaboration with International Alert and Saferworld. \nCall for proposals and more details [PDF]. \nPostgraduate Conference Programme: Masculinities Violence and (Post-)Conflict [PDF] \n
URL:https://psrpdev.law.ed.ac.uk/psrpx/event/masculinities0116/
CATEGORIES:Conference,CR,TJI
ATTACH;FMTTYPE=image/jpeg:https://psrpdev.law.ed.ac.uk/psrpx/wp-content/uploads/2015/09/gender.jpg
END:VEVENT
END:VCALENDAR