BEGIN:VCALENDAR
VERSION:2.0
PRODID:-//Political Settlements Research Programme X - ECPv5.1.1//NONSGML v1.0//EN
CALSCALE:GREGORIAN
METHOD:PUBLISH
X-WR-CALNAME:Political Settlements Research Programme X
X-ORIGINAL-URL:https://psrpdev.law.ed.ac.uk/psrpx
X-WR-CALDESC:Events for Political Settlements Research Programme X
BEGIN:VTIMEZONE
TZID:UTC
BEGIN:STANDARD
TZOFFSETFROM:+0000
TZOFFSETTO:+0000
TZNAME:UTC
DTSTART:20170101T000000
END:STANDARD
END:VTIMEZONE
BEGIN:VEVENT
DTSTART;TZID=UTC:20171127T100000
DTEND;TZID=UTC:20171127T160000
DTSTAMP:20260420T012302
CREATED:20171129T110448Z
LAST-MODIFIED:20171129T111303Z
UID:5511-1511776800-1511798400@psrpdev.law.ed.ac.uk
SUMMARY:Gendering Institutions: Workshop with Joni Lovenduski
DESCRIPTION:The distinguished feminist political scientist Professor Joni Lovenduski (Professor Emerita and\, formerly\, Anniversary Professor of Politics at Birkbeck) is receiving an honorary degree as part of our Winter Graduation Ceremony on Tuesday 28 November 2017. PSRP\, in association with the Gender Politics Research Group\, is holding a small international workshop in her honour on Monday 27 November\, the day before graduation. \n  \nFinal Programme \n  \n10-10.45              Tea/ Coffee/ pastries; informal meet and greet (CMB Room 1.12) \n  \n10.45-11.00         Welcome (Organisers Fiona Mackay and Meryl Kenny\, Edinburgh GPRG/ FIIN) (CMB Room 2.15) \n  \n11.00-12.30         Roundtable 1: Gendering Institutions: Taking Stock and New Directions \nChair: Fiona Mackay (Edinburgh) \nSpeakers: Joni Lovenduski (Birkbeck); Sarah Childs (Birkbeck); Georgina Waylen (Manchester); Meryl Kenny (Edinburgh); Tania Verge (Pompeu Fabra) \n  \n12.30-1.30           Lunch (CMB Room 1.12) \n  \n1.30-2.45             PhD Panel: Gendering Institutions: New voices\, New dilemmas? (CMB Room 2.15) \n                            Chair: Meryl Kenny (Edinburgh) \nPresenters: \nLin Ao (Xiamen) – Gender and political recruitment in the Chinese Communist Party: Guanxi\, ZouYeLu and Cowgirls \nMichelle Rouse (Ulster) – Causal mechanisms: are we looking in the wrong place? Northern Ireland Civil Service and post-conflict bureaucracies \nNuria Alcaraz (Barcelona) – Gendered Informal rules in a ‘formal’ feminist party in Cataluyna \nLeah McCabe (Edinburgh)­ – Gendered dynamics of continuity and change in domestic abuse policy in Scotland since 1990: Using critical frame analysis \n  \n2.45-2.55             Comfort break \n  \n2.55- 3.50            Roundtable 2: Gendering Institutions of post-conflict: political settlements and power-sharing \n(CMB Room 2.15) \nChair: Georgina Waylen (Manchester) \nSpeakers: Cera Murtagh (QUB) and Fiona Mackay (Edinburgh) – gender and power-sharing in post conflict societies \nClaire Duncanson (Edinburgh)- women and post-war economies \nDawn Walsh (DCU/Birmingham) – gender balance and non-elected institutions in post-conflict societies\, specifically independent commissions. \n  \n  \n3.50                     Final Remarks/ Close \n  \nCoffee and cakes (CMB Foyer) \n  \n\n \nConfirmed Participants  \n  \nProfessor Joni Lovenduski (Guest of Honour) \n  \nUniversity of Edinburgh \nDr Claire Duncanson \nDr Meryl Kenny \nDr Marc Geddes \nDr Cora Lacatus \nProfessor Fiona Mackay \n  \nNuria Alcaraz (Visiting PhD student\, Barcelona) \nEmilia Belknap (PhD student) \nMaddie Cancro (PhD student) \nPeach Lin (Visiting PhD student\, Xiamen University) \nLeah McCabe (PhD student) \nLydia Stubbs (MSc by Research student) \nRebecca Topping (PhD student) \n  \nExternal \nProfessor Sarah Childs (Birkbeck College\, University of London) \nDr Barbara Gaweda (University of Prague) \nDr Cera Murtagh (Queen’s University Belfast) \nMichelle Rouse (PhD student\, Ulster University) \nDr Tania Verge (Universitat Pompeu Fabra\, Barcelona) \nDr Dawn Walsh (Dublin City University/ Birmingham University) \nProfessor Georgina Waylen (Manchester University) \n
URL:https://psrpdev.law.ed.ac.uk/psrpx/event/joni-workshop/
LOCATION:Roon 2.15\, Chrystal Macmillan Building\, 15a George Square\, Edinburgh\, United Kingdom
CATEGORIES:Academic Event,GJA,Research Capacity Building
END:VEVENT
END:VCALENDAR