BEGIN:VCALENDAR
VERSION:2.0
PRODID:-//Political Settlements Research Programme X - ECPv5.1.1//NONSGML v1.0//EN
CALSCALE:GREGORIAN
METHOD:PUBLISH
X-WR-CALNAME:Political Settlements Research Programme X
X-ORIGINAL-URL:https://psrpdev.law.ed.ac.uk/psrpx
X-WR-CALDESC:Events for Political Settlements Research Programme X
BEGIN:VTIMEZONE
TZID:UTC
BEGIN:STANDARD
TZOFFSETFROM:+0000
TZOFFSETTO:+0000
TZNAME:UTC
DTSTART:20150101T000000
END:STANDARD
END:VTIMEZONE
BEGIN:VEVENT
DTSTART;TZID=UTC:20150822T201500
DTEND;TZID=UTC:20150822T211500
DTSTAMP:20260420T043711
CREATED:20150726T174246Z
LAST-MODIFIED:20150818T222450Z
UID:759-1440274500-1440278100@psrpdev.law.ed.ac.uk
SUMMARY:A Formidable Activist: Jesse Jackson
DESCRIPTION:The Global Justice Academy is delighted to host the Reverend Jesse Jackson at this year’s Edinburgh International Book Festival. \nJesse Jackson is one of the most formidable civil rights activists and personalities of the twentieth century. He worked alongside Dr Martin Luther King Jr.\, founded PUSH (People United to Save Humanity) in 1971\, and sought the Democratic candidacy for the White House twice. In his 1984 and 1988 presidential campaigns\, Jackson won 16 state contests and millions of votes\, making him the first viable African-American candidate for president. In recent years\, he has specialised in diplomacy\, negotiating with Fidel Castro\, Saddam Hussein\, and Slobodan Milosevic. \nNot strictly part of the PSRP\, we nonetheless think we have something useful to learn from Jesse Jackson’s activism for equality and justice and his international involvement in peace negotiations.  Plus\, programme director Christine Bell has the delightful task of presenting Jesse Jackson for an honorary degree at the end of the night!  We are delighted to partner with the book festival in this event\, particularly as they are having a wonderfully pro-human rights season this year with the inauguration of the PEN HG Wells lecture – and an astounding lecture by novelist Ali Smith. \nClick here for further details from the Book Festival website \n*Tickets for this event are now sold out* \n
URL:https://psrpdev.law.ed.ac.uk/psrpx/event/jessejackson/
LOCATION:Baillie Gifford Main Arena\, Charlotte Square\, Edinburgh\, United Kingdom
CATEGORIES:GJA,Public Event
END:VEVENT
END:VCALENDAR