BEGIN:VCALENDAR
VERSION:2.0
PRODID:-//Political Settlements Research Programme X - ECPv5.1.1//NONSGML v1.0//EN
CALSCALE:GREGORIAN
METHOD:PUBLISH
X-WR-CALNAME:Political Settlements Research Programme X
X-ORIGINAL-URL:https://psrpdev.law.ed.ac.uk/psrpx
X-WR-CALDESC:Events for Political Settlements Research Programme X
BEGIN:VTIMEZONE
TZID:UTC
BEGIN:STANDARD
TZOFFSETFROM:+0000
TZOFFSETTO:+0000
TZNAME:UTC
DTSTART:20150101T000000
END:STANDARD
END:VTIMEZONE
BEGIN:VEVENT
DTSTART;TZID=UTC:20150930T101500
DTEND;TZID=UTC:20150930T163000
DTSTAMP:20260420T011437
CREATED:20150818T160851Z
LAST-MODIFIED:20151120T140631Z
UID:1217-1443608100-1443630600@psrpdev.law.ed.ac.uk
SUMMARY:Grassroots Transitional Justice Training Programme
DESCRIPTION:Grassroots Transitional Justice Training Programme \nAutumn-Winter 2015/2016 \nClosing date for applications: 12 noon\, Wednesday 19 August\, 2015. \nThe Grassroots Transitional Justice Training Programme is a joint initiative between Bridge of Hope\, a department of Ashton Community Trust\, and the Transitional Justice Institute (TJI) at Ulster University and is supported by the PSRP.  It involves a parallel study process. In the morning the Grassroots Toolkit module will be taught\, as part of Ulster University’s BSc Hons Community Development degree and in the afternoon training will be delivered on how to teach/facilitate groups undertaking the Transitional Justice Grassroots Toolkit programme. \nThe programme will run weekly on Wednesdays\, starting September 30 to December 16 2015 (10.15am-4.30pm) and will involve an end of training two-day theory to practice residential January 15-17 2016. All classes will take place at Ulster’s Jordanstown Campus and at TJI\, Dalriada House. Coursework for the Grassroots Transitional Justice module is submission of the completed Toolkit (min 800 & max 1000 words) and coursework for the Training module is submission of a reflective practice folder (min 1\,200 & max 1\,500 words). \nCompleting the programme results in the achievement of a Grassroots Toolkit Trainer (Provisional) Certificate\, as well as UU credits that can be used to access the BSc Community Development degree. To become a registered Grassroots Toolkit Trainer you would be expected to deliver at least one Grassroots Toolkit Programme within the victims & survivors sector within a year of completing this training. \nThis programme is funded by the Victims & Survivors Service on behalf of the Office of the First and Deputy First Minister\, and the TJI partnership is supported by the Political Settlements Research Programme (PSRP). \nFor more information about the programme and applications\, click on the documents below. \nGrassroots Transitional Justice Training Programme (Information) \nGrassroots Transitional Justice Training Programme (Application Sheet) \n
URL:https://psrpdev.law.ed.ac.uk/psrpx/event/grassroots-training/
LOCATION:Ulster’s Jordanstown Campus & TJI\, Dalriada House\, Belfast\, United Kingdom
CATEGORIES:Knowledge Exchange,Training
ATTACH;FMTTYPE=image/png:https://psrpdev.law.ed.ac.uk/psrpx/wp-content/uploads/2015/08/Logos-TJI-Training-Programme.png
END:VEVENT
END:VCALENDAR