BEGIN:VCALENDAR
VERSION:2.0
PRODID:-//Political Settlements Research Programme X - ECPv5.1.1//NONSGML v1.0//EN
CALSCALE:GREGORIAN
METHOD:PUBLISH
X-WR-CALNAME:Political Settlements Research Programme X
X-ORIGINAL-URL:https://psrpdev.law.ed.ac.uk/psrpx
X-WR-CALDESC:Events for Political Settlements Research Programme X
BEGIN:VTIMEZONE
TZID:UTC
BEGIN:STANDARD
TZOFFSETFROM:+0000
TZOFFSETTO:+0000
TZNAME:UTC
DTSTART:20150101T000000
END:STANDARD
END:VTIMEZONE
BEGIN:VEVENT
DTSTART;TZID=UTC:20151215T173000
DTEND;TZID=UTC:20151215T190000
DTSTAMP:20260419T234423
CREATED:20151204T105100Z
LAST-MODIFIED:20151204T105100Z
UID:1981-1450200600-1450206000@psrpdev.law.ed.ac.uk
SUMMARY:From the Frontline of the Refugee Crisis in Lesbos
DESCRIPTION:‘From the Frontline of the Refugee Crisis in Lesbos’ is a film screening and discussion event taking place on Tuesday 15 December at 5:30pm. The film\, ‘Stateless in Lesbos’ is a short (25min) documentary shot this November on one of the islands considered the front-line of the refugee crisis. Focusing on the solidarity of ordinary people in the face of government-led racism and incompetence\, the film shows how the working class in Greece are defying the state and showing their solidarity with refugees. \n\nThe screening will be introduced by Penny Travlou\, from the Edinburgh School of Architecture and Landscape Architecture\, University of Edinburgh. The director\, Guy Smallman from Reelnews\, will be travelling to Scotland fresh from the press film screening and will be on hand to give a Q&A on his first-hand experiences.\nThis event is free to attend\, and is co-hosted by the Autonomous Centre of Edinburgh and Counterinfo Lab.\n\n
URL:https://psrpdev.law.ed.ac.uk/psrpx/event/from-the-frontline-of-the-refugee-crisis-in-lesbos/
LOCATION:Hunter Lecture Theatre – Edinburgh College of Art\, ECA Campus\,  Hunter Building\, 74 Lauriston Place\, Edinburgh\, EH3 9DF\, United Kingdom
CATEGORIES:Public Event
ATTACH;FMTTYPE=image/jpeg:https://psrpdev.law.ed.ac.uk/psrpx/wp-content/uploads/2015/12/acerefugees.jpg
END:VEVENT
END:VCALENDAR