BEGIN:VCALENDAR
VERSION:2.0
PRODID:-//Political Settlements Research Programme X - ECPv5.1.1//NONSGML v1.0//EN
CALSCALE:GREGORIAN
METHOD:PUBLISH
X-WR-CALNAME:Political Settlements Research Programme X
X-ORIGINAL-URL:https://psrpdev.law.ed.ac.uk/psrpx
X-WR-CALDESC:Events for Political Settlements Research Programme X
BEGIN:VTIMEZONE
TZID:UTC
BEGIN:STANDARD
TZOFFSETFROM:+0000
TZOFFSETTO:+0000
TZNAME:UTC
DTSTART:20190101T000000
END:STANDARD
END:VTIMEZONE
BEGIN:VEVENT
DTSTART;VALUE=DATE:20191209
DTEND;VALUE=DATE:20191211
DTSTAMP:20260420T050227
CREATED:20191030T111035Z
LAST-MODIFIED:20191030T111450Z
UID:9197-1575849600-1576022399@psrpdev.law.ed.ac.uk
SUMMARY:Workshop: Edinburgh Dialogue on Post-Conflict Constitution Building
DESCRIPTION:*This event is by invitation only* \nInternational IDEA\, the Edinburgh Centre for Constitutional Law (ECCL)\, the Global Justice Academy (GJA)\, in association with the Political Settlements Research Programme (PSRP) of the University of Edinburgh\, and with support from the UK Department for International Development\, will hold the sixth Edinburgh Dialogue on Post-Conflict Constitution Building on 9-10 December\, 2019\, at the University of Edinburgh Law School. \nThis annual series is a closed workshop bringing together high-level experts and practitioners from the fields of constitution building\, peacebuilding and conflict mediation for two days of discussion on an issue relating to the role of constitution building in conflict-to-peace transitions. Previous years have focused on Interim Constitutions\, Sequencing Peace Agreements and Constitutions\, Sub-State Constitutions\, (S)electing Constitution Making Bodies and the Intersection of Constitution Building and Transitional Justice Processes. \nThe theme for the 2019 Edinburgh Dialogue is ‘Interim Governance Arrangements in Post-Conflict and Fragile Settings’. \nFor more information\, contact politicalsettlements@ed.ac.uk. \n  \n
URL:https://psrpdev.law.ed.ac.uk/psrpx/event/edinburgh-dialogue-post-conflict-constitution-building/
LOCATION:Edinburgh
CATEGORIES:Academic Event,Closed Event,GJA
ATTACH;FMTTYPE=image/jpeg:https://psrpdev.law.ed.ac.uk/psrpx/wp-content/uploads/2019/08/LocalAgreementsProject-e1566224126746.jpg
END:VEVENT
END:VCALENDAR