BEGIN:VCALENDAR
VERSION:2.0
PRODID:-//Political Settlements Research Programme X - ECPv5.1.1//NONSGML v1.0//EN
CALSCALE:GREGORIAN
METHOD:PUBLISH
X-WR-CALNAME:Political Settlements Research Programme X
X-ORIGINAL-URL:https://psrpdev.law.ed.ac.uk/psrpx
X-WR-CALDESC:Events for Political Settlements Research Programme X
BEGIN:VTIMEZONE
TZID:UTC
BEGIN:STANDARD
TZOFFSETFROM:+0000
TZOFFSETTO:+0000
TZNAME:UTC
DTSTART:20160101T000000
END:STANDARD
END:VTIMEZONE
BEGIN:VEVENT
DTSTART;TZID=UTC:20160714T133000
DTEND;TZID=UTC:20160714T151500
DTSTAMP:20260419T220145
CREATED:20160512T120749Z
LAST-MODIFIED:20160512T120749Z
UID:2541-1468503000-1468509300@psrpdev.law.ed.ac.uk
SUMMARY:PSRP Researcher Presenting: Children and War - Past and Present
DESCRIPTION:PSRP Researcher Rachel Anderson is presenting at the third international multidisciplinary conference on Children and War: Past and Present\, to be held at the University of Salzburg\, Austria\, on 13-15 July 2016. The conference is organised by the University of Salzburg and the University of Wolverhampton\, in association with the UN Office of the Special Representative of the Secretary-General for Children and Armed Conflict. \nRachel’s paper\, ‘Framing the child soldier identity in post-conflict contexts: The long-term effects of child soldier DDR in Sierra Leone’ examines how international interventions and local practices have shaped understandings of the ‘child soldier identity’ in Sierra Leonean Society since the end of the civil war in 2002 and how these understandings affect former child soldiers social interactions with other members  of their communities. Rachel will present her paper at the panel: Child Soldiers (III)\, 13:30 – 15:30 CEST\, Thursday 14 July 2016. \nThe event is open to attend\, however registration is required and there is an attendance fee (Regular fees (3 days): EUR 210;  regular fees (1 day): EUR 90. \nRegistration and further details \n  \nAbstract: \nSierra Leone’s post-conflict reconstruction is viewed as a landmark case in the history of international peacebuilding as it represents the first time in which the needs of children who participated in the conflict were acknowledged in the formal peace process.  In particular\, its DDR process has been hailed as a success story by the international community and used as a model in other peace operations. This paper seeks to examine the long term effects of the child soldier DDR process on the social status of former child soldiers in Sierra Leone. \nDrawing on empirical research undertaken in Sierra Leone and using sociological theories of identity management\, this paper examines how international interventions and local practices have shaped understandings of the ‘child soldier identity’ in Sierra Leonean Society since the end of the war and how these understandings affect former child soldiers social interactions with other members  of their communities.  The findings suggest that former child soldiers are left with three options for the long-term management of this identity\, namely to conceal\, to mitigate or to embrace it. While each identity management strategy offers its own set of social benefits\, each strategy also places a specific set of restrictions on the child soldiers to which they must adhere in order to ensure their continued social acceptance. \n  \n  \nPhoto credit: Rachel Anderson \n
URL:https://psrpdev.law.ed.ac.uk/psrpx/event/children-and-war-past-and-present-2016/
LOCATION:Kultur- und gesellschaftliche Fakultät\, Universität Salzburg\, Rudolfskai 42\, Salzburg\, A-5020\, Austria
CATEGORIES:Conference,Knowledge Exchange
ATTACH;FMTTYPE=image/jpeg:https://psrpdev.law.ed.ac.uk/psrpx/wp-content/uploads/2016/05/thumbnail_DSCF0428.jpg
END:VEVENT
END:VCALENDAR