BEGIN:VCALENDAR
VERSION:2.0
PRODID:-//Political Settlements Research Programme X - ECPv5.1.1//NONSGML v1.0//EN
CALSCALE:GREGORIAN
METHOD:PUBLISH
X-WR-CALNAME:Political Settlements Research Programme X
X-ORIGINAL-URL:https://psrpdev.law.ed.ac.uk/psrpx
X-WR-CALDESC:Events for Political Settlements Research Programme X
BEGIN:VTIMEZONE
TZID:UTC
BEGIN:STANDARD
TZOFFSETFROM:+0000
TZOFFSETTO:+0000
TZNAME:UTC
DTSTART:20150101T000000
END:STANDARD
END:VTIMEZONE
BEGIN:VEVENT
DTSTART;TZID=UTC:20151203T170000
DTEND;TZID=UTC:20151203T210000
DTSTAMP:20260419T215430
CREATED:20151127T142518Z
LAST-MODIFIED:20151127T143858Z
UID:1947-1449162000-1449176400@psrpdev.law.ed.ac.uk
SUMMARY:Film Screening: Democrats
DESCRIPTION:As part of the workshop ‘Constitution Building in Political Settlement Processes: the Quest for Inclusion’\, there will be an open screening of Camilla Nielsson’s film ‘Democrats’ on December 3rd at 5pm. This event is hosted by International IDEA\, the Edinburgh Centre for Constitutional Law\, and the Global Justice Academy in association with the Political Settlements Research Programme. Registration is necessary via Eventbrite. \n\n\n\n\n\n\n\n\n\n\n\n\n\n\n\n\n\n\n\n\n\n\n\n\n\n\n\n\n\n\n\n\n\nDOCUMENTARY ON THE ZIMBABWE POWER-SHARING NEGOTIATIONS AND\nCONSTITUTION-MAKING PROCESS LEADING TO THE 2013 CONSTITUTION\n\n\n\nIncluding Q & A with\nCamilla Nielsson (director)\nand\nDouglas Mwonzora (MDC-T) and Paul Mangwana (ZANU-PF)\n\n\n\nALL WELCOME\n3 DECEMBER 2015\n5pm wine reception • 5.30pm movie screening\nLOWER GROUND FLOOR\, DAVID HUME TOWER\, GEORGE SQUARE\n \n\n\n\nPlease register your interest on Eventbrite  \n\n\n\n\n\n\n\n\n\n\n\n\n
URL:https://psrpdev.law.ed.ac.uk/psrpx/event/1947/
CATEGORIES:GJA,Public Event
ATTACH;FMTTYPE=image/jpeg:https://psrpdev.law.ed.ac.uk/psrpx/wp-content/uploads/2015/11/Democrats6_450.jpg
END:VEVENT
END:VCALENDAR